BEGIN:VCALENDAR
VERSION:2.0
PRODID:-//wp-events-plugin.com//7.2.3.1//EN
TZID:America/Toronto
X-WR-TIMEZONE:America/Toronto
BEGIN:VEVENT
UID:286@epilepsytoronto.org
DTSTART;TZID=America/Toronto:20220202T193000
DTEND;TZID=America/Toronto:20220202T210000
DTSTAMP:20260109T203323Z
URL:https://epilepsytoronto.org/event/young-adults-support-group-2022/
SUMMARY:Young Adults Support Group
DESCRIPTION:[vc_row][vc_column][vc_column_text]Due to concerns around COVID
 -19\, the Young Adults Support Group has been moved online\, starting at 7
 :30 pm until further notice. [/vc_column_text][vc_column_text]Are you loo
 king to meet other young adults who have epilepsy\, to share stories\, res
 ources\, and concerns? The Young Adults Support Group is a place where ind
 ividuals with epilepsy can connect with other individuals while in an enco
 uraging\, supportive and empowering environment.\n\nTalking to other indiv
 iduals with similar stories and experiences has proven to be beneficial fo
 r all members involved. Whether it’s to talk about what it’s like to h
 ave epilepsy\, issues you may face with epilepsy\, or suggestions on how t
 o manage one’s epilepsy\,  possible feelings of social stigmatization o
 r seclusion may be diminished by connections made in this support group.\n
 \nThis group is facilitated by Epilepsy Toronto's Youth Services departmen
 t on the first Wednesday of the month. Please contact Katie at\, katie@epi
 lepsytoronto.org\, for more information.[/vc_column_text][vc_column_text]P
 lease note: an individual intake appointment is required before joining a
 ny of our support groups – please contact the Epilepsy Toronto Office fo
 r more information.[/vc_column_text][/vc_column][/vc_row][vc_row][vc_colum
 n][ult_content_box bg_color="#7100e2" box_shadow="horizontal:px|vertical:p
 x|blur:px|spread:px|style:none|" hover_box_shadow="horizontal:px|vertical:
 px|blur:px|spread:px|style:none|"][/ult_content_box][/vc_column][/vc_row]
ATTACH;FMTTYPE=image/jpeg:https://epilepsytoronto.org/wp-content/uploads/2
 021/05/Young-Adults-Support-Group_Web-Banner2021.jpg
CATEGORIES:monthly/quarterly
LOCATION:Online\, \, Canada
X-APPLE-STRUCTURED-LOCATION;VALUE=URI;X-ADDRESS=\, Canada;X-APPLE-RADIUS=10
 0;X-TITLE=Online:geo:0,0
END:VEVENT
BEGIN:VTIMEZONE
TZID:America/Toronto
X-LIC-LOCATION:America/Toronto
BEGIN:STANDARD
DTSTART:20211107T010000
TZOFFSETFROM:-0400
TZOFFSETTO:-0500
TZNAME:EST
END:STANDARD
END:VTIMEZONE
END:VCALENDAR