BEGIN:VCALENDAR
VERSION:2.0
PRODID:-//wp-events-plugin.com//7.2.3.1//EN
TZID:America/Toronto
X-WR-TIMEZONE:America/Toronto
BEGIN:VEVENT
UID:774@epilepsytoronto.org
DTSTART;TZID=America/Toronto:20220421T150000
DTEND;TZID=America/Toronto:20220421T160000
DTSTAMP:20260109T203304Z
URL:https://epilepsytoronto.org/event/uplift-for-employment-2022/
SUMMARY:UPLIFT for Employment
DESCRIPTION:[vc_row][vc_column][vc_column_text]\n\nJob search got you down?
 \nAnxious about that upcoming job interview?\nDo you have a job but you're
  worried about disclosing your disability?\nDoes the thought of having a s
 eizure on the job stress you out?\n[/vc_column_text][vc_column_text]Then U
 PLIFT for Employment is for you!\n\nUPLIFT is a mindfulness-based cognitiv
 e behavioural therapy group for adults with epilepsy who are experiencing 
 depression\, anxiety\, and/or stress\, with a focus on employment. The hou
 r-long support group will be hosted online for 8 consecutive weeks.\n\nThi
 s free program will guide you through a series of workshops designed to he
 lp you manage the stressful areas of your life and learn new skills in sel
 f-management. The program will start on April 21\, and run weekly until Ju
 ne 9.[/vc_column_text][/vc_column][/vc_row][vc_row][vc_column][vc_column_t
 ext]Space is limited\, so please be sure to reserve your spot now! To do s
 o\,  please complete this form to register.  For more information\, plea
 se contact Employment Services Manager Carter Hammett at: carter@epilepsyt
 oronto.org.[/vc_column_text][/vc_column][/vc_row]
ATTACH;FMTTYPE=image/jpeg:https://epilepsytoronto.org/wp-content/uploads/2
 021/09/UPLIFT-for-Employment_1048-×-400-px.jpg
LOCATION:Online\, \, Canada
X-APPLE-STRUCTURED-LOCATION;VALUE=URI;X-ADDRESS=\, Canada;X-APPLE-RADIUS=10
 0;X-TITLE=Online:geo:0,0
END:VEVENT
BEGIN:VTIMEZONE
TZID:America/Toronto
X-LIC-LOCATION:America/Toronto
BEGIN:DAYLIGHT
DTSTART:20220313T030000
TZOFFSETFROM:-0500
TZOFFSETTO:-0400
TZNAME:EDT
END:DAYLIGHT
END:VTIMEZONE
END:VCALENDAR