BEGIN:VCALENDAR
VERSION:2.0
PRODID:-//wp-events-plugin.com//7.2.3.1//EN
TZID:America/Toronto
X-WR-TIMEZONE:America/Toronto
BEGIN:VEVENT
UID:1417@epilepsytoronto.org
DTSTART;TZID=America/Toronto:20251104T163000
DTEND;TZID=America/Toronto:20251104T173000
DTSTAMP:20260109T203235Z
URL:https://epilepsytoronto.org/event/teleplay-virtual-group/
SUMMARY:TelePlay Virtual Group
DESCRIPTION:[vc_row][vc_column][vc_column_text css=""]Looking for an exciti
 ng and engaging way to help your kids unwind after school\, while increasi
 ng social connections? Our after-school teleplay program\, in partnership
  with Project Sunshine\, is the perfect opportunity for interactive fun! 
 Designed for school-aged children with epilepsy (and siblings)\, this 6-we
 ek program offers a variety of fun activities and games led by TelePlay vo
 lunteers. Come for all 6 weeks\, or come join in on the fun for the nights
  you’re able to![/vc_column_text][/vc_column][/vc_row][vc_row][vc_column
 ][vc_btn title="Click Here to Register" color="violet" size="lg" align="ce
 nter" css="" link="url:https%3A%2F%2Fdocs.google.com%2Fforms%2Fd%2Fe%2F1FA
 IpQLSeoRCJq0axqwK02iQ6NafmSM1CTzCNtDoEOr9bngx1etQWc_w%2Fviewform%3Fusp%3Dh
 eader|target:_blank"][/vc_column][/vc_row]
ATTACH;FMTTYPE=image/jpeg:https://epilepsytoronto.org/wp-content/uploads/2
 025/02/2025-TELEPLAY-Virtual-Group-CY-Services-Website-Banner.png
LOCATION:Online\, \, Canada
X-APPLE-STRUCTURED-LOCATION;VALUE=URI;X-ADDRESS=\, Canada;X-APPLE-RADIUS=10
 0;X-TITLE=Online:geo:0,0
END:VEVENT
BEGIN:VTIMEZONE
TZID:America/Toronto
X-LIC-LOCATION:America/Toronto
BEGIN:STANDARD
DTSTART:20251102T010000
TZOFFSETFROM:-0400
TZOFFSETTO:-0500
TZNAME:EST
END:STANDARD
END:VTIMEZONE
END:VCALENDAR