BEGIN:VCALENDAR
VERSION:2.0
PRODID:-//wp-events-plugin.com//7.2.3.1//EN
TZID:America/Toronto
X-WR-TIMEZONE:America/Toronto
BEGIN:VEVENT
UID:100@epilepsytoronto.org
DTSTART;TZID=America/Toronto;VALUE=DATE:20190830
DTEND;TZID=America/Toronto;VALUE=DATE:20190903
DTSTAMP:20260109T203332Z
URL:https://epilepsytoronto.org/event/scotiabank-buskerfest/
SUMMARY:Toronto International BuskerFest For Epilepsy
DESCRIPTION:[vc_row][vc_column][vc_single_image image="4656" img_size="full
 " alignment="center"][vc_column_text]\nTORONTO INTERNATIONAL BUSKERFEST FO
 R EPILEPSY \n20th Anniversary Year is Back in The Beach Neighbourhood\nBr
 inging Epilepsy Awareness\, Entertainment and FUN to \nWoodbine Park over
  Labour Day Weekend!\n[/vc_column_text][/vc_column][/vc_row][vc_row][vc_co
 lumn][vc_column_text]\nWe are proud to announce that the 20th annual Toron
 to International BuskerFest for Epilepsy will once again take place in Woo
 dbine Park in The Beach\, serving up non-stop\, action-packed\, fun-filled
  entertainment over the Labour Day weekend\, Friday August 30 through Mond
 ay September 2.\nNow in its milestone 20th year\, the event is widely reco
 gnized as one of the best and biggest street performer festivals in North 
 America\, and the largest epilepsy awareness event in the world! Since its
  inception in 2000\, the Toronto International BuskerFest has featured hun
 dreds of the best street performers from around the globe\, hosted million
 s of amazed spectators and helped raise much-needed funds for Epilepsy Tor
 onto through visitors’ donations at the gate.\n\n“For 20 years BuskerF
 est has been bringing people from across Toronto to enjoy world class perf
 ormers in support of an amazing cause. This year I am happy that they have
  chosen to come back to Woodbine Park so our Beaches East-York community c
 an enjoy the festivities for another weekend.” – Councillor Bradford\
 n\nJoin comedians\, escape-artists\, sword-swallowers\, musicians\, magici
 ans\, fire jugglers\, acrobats\, aerial artists\, clowns and daredevils\; 
 over a hundred of the most extraordinary street performers on earth\, as t
 hey descend upon Woodbine Park for some serious fun! Admission by donation
  to Epilepsy Toronto. Prepare to be amazed!\nToronto International BuskerF
 est for Epilepsy\nDates: Friday August 30 - Monday\, September 2\, 2019\n
 Times: Aug. 30 (12pm - 10pm)\; Aug 31 (11am - 11pm)\; Sept 1 (11am - 10pm
 )\; Sept 2 (11am - 8pm)\nLocation:  Woodbine Park\, in The Beach\, 1695 
 Queen St. E.  (Coxwell Ave. at Lakeshore Blvd. E.)\nAdmission by Donation
  to Epilepsy Toronto\nFor information\, visit:  www.torontobuskerfest.co
 m\nFacebook: at http://www.facebook.com/BuskerFestToronto\nInstagram &amp
 \; Twitter: @BuskerFestTO #BuskerFestTO\n[/vc_column_text][vc_separator]
 [vc_column_text]\nBuskerFest needs you!\n[/vc_column_text][/vc_column][/vc
 _row][vc_row][vc_column width="2/3"][vc_single_image image="4661" img_size
 ="full"][/vc_column][vc_column width="1/3"][vc_column_text]To volunteer fo
 r this year's festival\, please contact Kealin at volunteers@epilepsytoron
 to.org or call 416-964-9095.[/vc_column_text][/vc_column][/vc_row]
ATTACH;FMTTYPE=image/jpeg:https://epilepsytoronto.org/wp-content/uploads/2
 015/08/Website-Banner.png
LOCATION:Woodbine Park\, 1695 Queen St East\, Toronto\, Ontario\, M4L 1G7\,
  Canada
X-APPLE-STRUCTURED-LOCATION;VALUE=URI;X-ADDRESS=1695 Queen St East\, Toront
 o\, Ontario\, M4L 1G7\, Canada;X-APPLE-RADIUS=100;X-TITLE=Woodbine Park:ge
 o:0,0
END:VEVENT
BEGIN:VTIMEZONE
TZID:America/Toronto
X-LIC-LOCATION:America/Toronto
BEGIN:DAYLIGHT
DTSTART:20190310T030000
TZOFFSETFROM:-0500
TZOFFSETTO:-0400
TZNAME:EDT
END:DAYLIGHT
END:VTIMEZONE
END:VCALENDAR