BEGIN:VCALENDAR
VERSION:2.0
PRODID:-//wp-events-plugin.com//7.2.3.1//EN
TZID:America/Toronto
X-WR-TIMEZONE:America/Toronto
BEGIN:VEVENT
UID:609@epilepsytoronto.org
DTSTART;TZID=America/Toronto:20200630T140000
DTEND;TZID=America/Toronto:20200630T160000
DTSTAMP:20260109T203310Z
URL:https://epilepsytoronto.org/event/personal-resume-clinic/
SUMMARY:ONLINE Personal Resume Clinic - Employment Services
DESCRIPTION:[vc_row][vc_column width="1/2"][vc_column_text]Epilepsy Toronto
 's Employment Services Department wants to help you with your personal res
 ume!\n\nSchedule your free\, one-on-one session with one of our employment
  specialists today! Our staff will review your resume with you and provide
  you with professional advice and pointers to help you land your next job.
 \nContact Jesse at jesse@epilepsytoronto.org to reserve your session.\n[
 /vc_column_text][/vc_column][vc_column width="1/2"][vc_single_image image=
 "4968"][/vc_column][/vc_row]
ATTACH;FMTTYPE=image/jpeg:https://epilepsytoronto.org/wp-content/uploads/2
 020/06/Copy-of-Online-Employment-Workshops_Twitter.jpg
LOCATION:Online\, \, Canada
X-APPLE-STRUCTURED-LOCATION;VALUE=URI;X-ADDRESS=\, Canada;X-APPLE-RADIUS=10
 0;X-TITLE=Online:geo:0,0
END:VEVENT
BEGIN:VTIMEZONE
TZID:America/Toronto
X-LIC-LOCATION:America/Toronto
BEGIN:DAYLIGHT
DTSTART:20200308T030000
TZOFFSETFROM:-0500
TZOFFSETTO:-0400
TZNAME:EDT
END:DAYLIGHT
END:VTIMEZONE
END:VCALENDAR