BEGIN:VCALENDAR
VERSION:2.0
PRODID:-//wp-events-plugin.com//7.2.3.1//EN
TZID:America/Toronto
X-WR-TIMEZONE:America/Toronto
BEGIN:VEVENT
UID:767@epilepsytoronto.org
DTSTART;TZID=America/Toronto:20210912T103000
DTEND;TZID=America/Toronto:20210912T113000
DTSTAMP:20260109T203304Z
URL:https://epilepsytoronto.org/event/music-and-movement-for-babies-and-to
 ts-3/
SUMMARY:Music and Movement for Babies and Tots
DESCRIPTION:[vc_row][vc_column][vc_single_image image="8167" img_size="full
 " alignment="center"][/vc_column][/vc_row][vc_row][vc_column][vc_column_te
 xt]\nElana Ellison\, Epilepsy Toronto's Child &amp\; Youth Services Co-ord
 inator\,  leads a playful new program of Music and Movement for Babies an
 d Tots.\nJoin Elana in Christie Pits Park for a virtual song circle and pa
 rent chat! Enjoy songs\, rhymes\, and stories with your little one. Connec
 t with other parents of young children who experience seizures. Siblings a
 re welcome!\nFor more information or to register\, please email Elana at e
 lana@epilepsytoronto.org.\nHealth precautions and COVID-19 screening will 
 be followed. In the event of inclement weather or changes to provincial h
 ealth regulations\, the program will be held online via Zoom. \n[/vc_colu
 mn_text][/vc_column][/vc_row]
LOCATION:Christie Pits Park\, 750 Bloor St W\, Toronto\, Ontario\, M6G 3K4\
 , Canada
X-APPLE-STRUCTURED-LOCATION;VALUE=URI;X-ADDRESS=750 Bloor St W\, Toronto\, 
 Ontario\, M6G 3K4\, Canada;X-APPLE-RADIUS=100;X-TITLE=Christie Pits Park:g
 eo:0,0
END:VEVENT
BEGIN:VTIMEZONE
TZID:America/Toronto
X-LIC-LOCATION:America/Toronto
BEGIN:DAYLIGHT
DTSTART:20210314T030000
TZOFFSETFROM:-0500
TZOFFSETTO:-0400
TZNAME:EDT
END:DAYLIGHT
END:VTIMEZONE
END:VCALENDAR