BEGIN:VCALENDAR
VERSION:2.0
PRODID:-//wp-events-plugin.com//7.2.3.1//EN
TZID:America/Toronto
X-WR-TIMEZONE:America/Toronto
BEGIN:VEVENT
UID:757@epilepsytoronto.org
DTSTART;TZID=America/Toronto:20211107T103000
DTEND;TZID=America/Toronto:20211107T113000
DTSTAMP:20260109T203303Z
URL:https://epilepsytoronto.org/event/music-and-movement-for-babies-and-to
 ts-11-7/
SUMMARY:Music and Movement for Babies and Tots
DESCRIPTION:[vc_row][vc_column width="1/2"][vc_single_image image="8527" im
 g_size="1080x1080" alignment="center" onclick="custom_link" img_link_targe
 t="_blank" link="https://youtu.be/OhIgkUBPBcY"][/vc_column][vc_column widt
 h="1/2"][vc_column_text]Elana Ellison\, Epilepsy Toronto's Child &amp\; Yo
 uth Services Co-ordinator\,  leads a playful program of Music and Movemen
 t for Babies and Tots.  This month\, she joined by special guest\, Jennif
 er Fabe\, RD from Matthew's Friends Canada\, to talk about the ketogenic d
 iet and nutrition in epilepsy. Following an engaging and fun music circle 
 for the little ones\, Jenniffer will be leading a discussion around the ke
 togenic diet for young children with seizure disorders\, and answer genera
 l questions during our parent chat.\n\nEnjoy songs\, rhymes\, and stories 
 with your little one\, learn about the keto diet\, and connect with other 
 parents of young children who experience seizures. Siblings are welcome![/
 vc_column_text][vc_column_text]\nFor more information or to register\, ple
 ase email Elana at elana@epilepsytoronto.org.\n[/vc_column_text][/vc_colum
 n][/vc_row][vc_row][vc_column][vc_column_text]About Jennifer Fabe\n\nJenni
 fer is the Registered Dietitian in the Ketogenic Diet program at McMaster 
 Children's Hospital\, and the President of Matthew's Friends Canada. Matth
 ew's Friends is a non-profit organization with a mission to improve the qu
 ality of life and independence of those who are requiring ketogenic diet t
 herapy for epilepsy and other neurological disorders.[/vc_column_text][/vc
 _column][/vc_row]
ATTACH;FMTTYPE=image/jpeg:https://epilepsytoronto.org/wp-content/uploads/2
 021/05/Movement-and-Music_banner-1048-×-400-px.jpg
LOCATION:Online\, \, Canada
X-APPLE-STRUCTURED-LOCATION;VALUE=URI;X-ADDRESS=\, Canada;X-APPLE-RADIUS=10
 0;X-TITLE=Online:geo:0,0
END:VEVENT
BEGIN:VTIMEZONE
TZID:America/Toronto
X-LIC-LOCATION:America/Toronto
BEGIN:STANDARD
DTSTART:20211107T010000
TZOFFSETFROM:-0400
TZOFFSETTO:-0500
TZNAME:EST
END:STANDARD
END:VTIMEZONE
END:VCALENDAR