BEGIN:VCALENDAR
VERSION:2.0
PRODID:-//wp-events-plugin.com//7.2.3.1//EN
TZID:America/Toronto
X-WR-TIMEZONE:America/Toronto
BEGIN:VEVENT
UID:1438@epilepsytoronto.org
DTSTART;TZID=America/Toronto:20251109T100000
DTEND;TZID=America/Toronto:20251109T120000
DTSTAMP:20260109T203235Z
URL:https://epilepsytoronto.org/event/knitting-crocheting-group/
SUMMARY:Knitting & Crocheting Group
DESCRIPTION:[vc_row][vc_column][vc_column_text css=""]Led by two of our mem
 bers\, this group is all about creating a warm and welcoming space where m
 embers can come together\, share skills\, build connections\, and support 
 one another\, all while making cozy handmade items. Whether you’re a sea
 soned knitter\, an eager beginner\, or just curious to learn\, you’re we
 lcome to join in. Youth are welcome to join with their parent/caregiver.
  \n\nCome for the stitches\, stay for the community!\n\nDates: Sunday\, N
 ovember 9\, and will run for four consecutive Sundays (November 9– Nov
 ember 30) from 10:00 AM to 12:00 PM\n\nIf you require more information\,
  contact: Katie@epilepsytoronto.org [/vc_column_text][/vc_column][/vc_row
 ]
ATTACH;FMTTYPE=image/jpeg:https://epilepsytoronto.org/wp-content/uploads/2
 025/10/2025-Leah-Crochet-Classes-Email-Graphic-1-scaled.jpg
LOCATION:Epilepsy Toronto Office\, 1425 Bayview Avenue\, Toronto\, MT\, M4G
  3A9\, Canada
X-APPLE-STRUCTURED-LOCATION;VALUE=URI;X-ADDRESS=1425 Bayview Avenue\, Toron
 to\, MT\, M4G 3A9\, Canada;X-APPLE-RADIUS=100;X-TITLE=Epilepsy Toronto Off
 ice:geo:0,0
END:VEVENT
BEGIN:VTIMEZONE
TZID:America/Toronto
X-LIC-LOCATION:America/Toronto
BEGIN:STANDARD
DTSTART:20251102T010000
TZOFFSETFROM:-0400
TZOFFSETTO:-0500
TZNAME:EST
END:STANDARD
END:VTIMEZONE
END:VCALENDAR