BEGIN:VCALENDAR
VERSION:2.0
PRODID:-//wp-events-plugin.com//7.2.3.1//EN
TZID:America/Toronto
X-WR-TIMEZONE:America/Toronto
BEGIN:VEVENT
UID:773@epilepsytoronto.org
DTSTART;TZID=America/Toronto:20210915T140000
DTEND;TZID=America/Toronto:20210915T160000
DTSTAMP:20260109T203303Z
URL:https://epilepsytoronto.org/event/job-search-in-the-digital-age/
SUMMARY:Job Search in the Digital Age
DESCRIPTION:[vc_row][vc_column width="1/2"][vc_single_image image="8336" im
 g_size="Full" alignment="center"][/vc_column][vc_column width="1/2"][vc_co
 lumn_text]COVID-19 has forced many of us to reassess how we not only work\
 , but look for jobs as well. In this workshop you will learn about the rol
 e social media can play in your job search\, how to navigate the internet 
 to help you realize your goals as well as what NOT to do! This is a highly
  interactive workshop so come prepared to participate! [/vc_column_text][v
 c_column_text]This online workshop is presented by Epilepsy Toronto’s Em
 ployment Services Department. To receive a zoom link to join please regist
 er HERE.[/vc_column_text][/vc_column][/vc_row]
ATTACH;FMTTYPE=image/jpeg:https://epilepsytoronto.org/wp-content/uploads/2
 021/05/Employment-Event_Web-banners.jpg
LOCATION:Online\, \, Canada
X-APPLE-STRUCTURED-LOCATION;VALUE=URI;X-ADDRESS=\, Canada;X-APPLE-RADIUS=10
 0;X-TITLE=Online:geo:0,0
END:VEVENT
BEGIN:VTIMEZONE
TZID:America/Toronto
X-LIC-LOCATION:America/Toronto
BEGIN:DAYLIGHT
DTSTART:20210314T030000
TZOFFSETFROM:-0500
TZOFFSETTO:-0400
TZNAME:EDT
END:DAYLIGHT
END:VTIMEZONE
END:VCALENDAR