BEGIN:VCALENDAR
VERSION:2.0
PRODID:-//wp-events-plugin.com//7.2.3.1//EN
TZID:America/Toronto
X-WR-TIMEZONE:America/Toronto
BEGIN:VEVENT
UID:824@epilepsytoronto.org
DTSTART;TZID=America/Toronto:20220722T130000
DTEND;TZID=America/Toronto:20220722T160000
DTSTAMP:20260109T203302Z
URL:https://epilepsytoronto.org/event/friday-recreation-group-2022-07-22/
SUMMARY:Friday Recreation Group
DESCRIPTION:[vc_row][vc_column][vc_column_text]The Friday Recreation Group 
 will begin meeting in-person again\, and will alternate between in-person 
 and virtual meetings weekly.   This week will be an IN-PERSON meeting.\n
 \nHaving epilepsy can be pretty isolating especially for those who have fr
 equent uncontrolled seizures. Due to the severe impact of epilepsy\, some 
 of these persons are unable to work full time. If you are at home on a Fri
 day\, want to hang out with others - play games\, make friends\, engage in
  fun activities - this group is for you. It’s casual! It’s fun! It’s
  interactive!\n\nInterested in dropping in on a Friday afternoon? Email us
  at info@epilepsytoronto.org or call us at 416-964-9095 to arrange an inta
 ke. John\, our Recreation Group coordinator would love to meet you.[/vc_c
 olumn_text][/vc_column][/vc_row]
ATTACH;FMTTYPE=image/jpeg:https://epilepsytoronto.org/wp-content/uploads/2
 022/01/Friday-Recreation-Group-1.jpg
LOCATION:Epilepsy Toronto Office\, 1425 Bayview Avenue\, Toronto\, MT\, M4G
  3A9\, Canada
X-APPLE-STRUCTURED-LOCATION;VALUE=URI;X-ADDRESS=1425 Bayview Avenue\, Toron
 to\, MT\, M4G 3A9\, Canada;X-APPLE-RADIUS=100;X-TITLE=Epilepsy Toronto Off
 ice:geo:0,0
END:VEVENT
BEGIN:VTIMEZONE
TZID:America/Toronto
X-LIC-LOCATION:America/Toronto
BEGIN:DAYLIGHT
DTSTART:20220313T030000
TZOFFSETFROM:-0500
TZOFFSETTO:-0400
TZNAME:EDT
END:DAYLIGHT
END:VTIMEZONE
END:VCALENDAR