BEGIN:VCALENDAR
VERSION:2.0
PRODID:-//wp-events-plugin.com//7.2.3.1//EN
TZID:America/Toronto
X-WR-TIMEZONE:America/Toronto
BEGIN:VEVENT
UID:785@epilepsytoronto.org
DTSTART;TZID=America/Toronto:20220202T140000
DTEND;TZID=America/Toronto:20220202T160000
DTSTAMP:20260109T203303Z
URL:https://epilepsytoronto.org/event/employment-workshop-personality-dime
 nsions-2022/
SUMMARY:Personality Dimensions Workshop
DESCRIPTION:[vc_row][vc_column][vc_single_image image="8928" img_size="full
 " alignment="center"][/vc_column][/vc_row][vc_row][vc_column][vc_column_te
 xt]\nPersonality Dimensions is an evidence-based workshop designed to help
  you in your career and workplace. It aims to do this by providing you wit
 h a better understanding of yourself and how you move through the world. I
 t helps you gain valuable insight into your strengths\, values\, needs\, a
 nd your understanding of the world. It’s also about how you tend to inte
 ract with others\, resolve problems\, and function in groups.\nPersonality
  Dimensions is organized around colour and it’s understood that everyone
  is a combination of these colours. Each colour represents a different asp
 ect of yourself: green is analytical\, blue is emotional and creative\; go
 ld is organized and orange is spontaneous and practical.\nPerhaps most hel
 pful\, is the list of jobs that are attached to each colour. As a group\, 
 we’ll review and discuss insights around careers attached to each colour
  and see how it matches up with your profile.[/vc_column_text][vc_column_t
 ext]To receive a Zoom link to join this online workshop presented by Epile
 psy Toronto's Employment Services Department. To receive a zoom link to j
 oin please complete a brief registration form.[/vc_column_text][/vc_colum
 n][/vc_row]\n
ATTACH;FMTTYPE=image/jpeg:https://epilepsytoronto.org/wp-content/uploads/2
 021/05/Employment-Event_Web-banners.jpg
LOCATION:Online\, \, Canada
X-APPLE-STRUCTURED-LOCATION;VALUE=URI;X-ADDRESS=\, Canada;X-APPLE-RADIUS=10
 0;X-TITLE=Online:geo:0,0
END:VEVENT
BEGIN:VTIMEZONE
TZID:America/Toronto
X-LIC-LOCATION:America/Toronto
BEGIN:STANDARD
DTSTART:20211107T010000
TZOFFSETFROM:-0400
TZOFFSETTO:-0500
TZNAME:EST
END:STANDARD
END:VTIMEZONE
END:VCALENDAR