BEGIN:VCALENDAR
VERSION:2.0
PRODID:-//wp-events-plugin.com//7.2.3.1//EN
TZID:America/Toronto
X-WR-TIMEZONE:America/Toronto
BEGIN:VEVENT
UID:1002@epilepsytoronto.org
DTSTART;TZID=America/Toronto:20231004T130000
DTEND;TZID=America/Toronto:20231004T150000
DTSTAMP:20260109T203254Z
URL:https://epilepsytoronto.org/event/employment-services-memory-workshop/
SUMMARY:Employment Services-Memory Workshop
DESCRIPTION:\n\n\nMany people with epilepsy live with memory issues. This w
 orkshop provides an overview of some of the most common types of memory is
 sues and how they might affect you in the workplace. Then dives into some 
 accommodations that can help overcome the challenges memory issues present
 .\n\n\n\n\n\n\nThis workshop is facilitated by the Epilepsy Toronto Emplo
 yment Services Department\n\n\n\n\n\n\n\nPlease register by clicking here 
 or speaking with your Epilepsy Toronto counselor for more information.\n\n
 \n
ATTACH;FMTTYPE=image/jpeg:https://epilepsytoronto.org/wp-content/uploads/2
 023/09/Workshops-1.jpg
END:VEVENT
BEGIN:VTIMEZONE
TZID:America/Toronto
X-LIC-LOCATION:America/Toronto
BEGIN:DAYLIGHT
DTSTART:20230312T030000
TZOFFSETFROM:-0500
TZOFFSETTO:-0400
TZNAME:EDT
END:DAYLIGHT
END:VTIMEZONE
END:VCALENDAR