BEGIN:VCALENDAR
VERSION:2.0
PRODID:-//wp-events-plugin.com//7.2.3.1//EN
TZID:America/Toronto
X-WR-TIMEZONE:America/Toronto
BEGIN:VEVENT
UID:1299@epilepsytoronto.org
DTSTART;TZID=America/Toronto:20250806T130000
DTEND;TZID=America/Toronto:20250806T150000
DTSTAMP:20260109T203241Z
URL:https://epilepsytoronto.org/event/emp-memory-workshop-2-2025-08-06/
SUMMARY:EMP-Memory Workshop
DESCRIPTION:Many people with epilepsy live with memory issues. This worksho
 p provides an overview of some of the most common types of memory issues a
 nd how they might affect you in the workplace. Then dives into some accomm
 odations that can help overcome the challenges memory issues present.\n\nI
 f you have question about this upcoming workshop please contact: Carter@ep
 ilepsytoronto.org
ATTACH;FMTTYPE=image/jpeg:https://epilepsytoronto.org/wp-content/uploads/2
 024/05/2024-Memory-Workshop-Employment-Website-Banner-1.jpg
LOCATION:Online\, \, Canada
X-APPLE-STRUCTURED-LOCATION;VALUE=URI;X-ADDRESS=\, Canada;X-APPLE-RADIUS=10
 0;X-TITLE=Online:geo:0,0
END:VEVENT
BEGIN:VTIMEZONE
TZID:America/Toronto
X-LIC-LOCATION:America/Toronto
BEGIN:DAYLIGHT
DTSTART:20250309T030000
TZOFFSETFROM:-0500
TZOFFSETTO:-0400
TZNAME:EDT
END:DAYLIGHT
END:VTIMEZONE
END:VCALENDAR