BEGIN:VCALENDAR
VERSION:2.0
PRODID:-//wp-events-plugin.com//7.2.3.1//EN
TZID:America/Toronto
X-WR-TIMEZONE:America/Toronto
BEGIN:VEVENT
UID:1001@epilepsytoronto.org
DTSTART;TZID=America/Toronto:20230927T130000
DTEND;TZID=America/Toronto:20230927T150000
DTSTAMP:20260109T203253Z
URL:https://epilepsytoronto.org/event/emp-interview-workshops/
SUMMARY:Employment Services-Interview Workshop
DESCRIPTION:Elevate Your Career Prospects with Our Interview Workshop.\n\nJ
 oin us on Wednesday\, September 27\, for an engaging and insightful interv
 iew workshop presented by the Epilepsy Toronto Employment Team. Whether yo
 u're embarking on a new career journey or seeking to enhance your intervie
 w skills\, this workshop is designed to empower you.\n\nUnlock the secrets
  to interview success and gain the confidence you need to shine in your ne
 xt job interview. To secure your spot and register for this event\, please
  fill out the registration form.\n\nRegistration Form.
ATTACH;FMTTYPE=image/jpeg:https://epilepsytoronto.org/wp-content/uploads/2
 023/09/Workshops.jpg
CATEGORIES:one-time-session
END:VEVENT
BEGIN:VTIMEZONE
TZID:America/Toronto
X-LIC-LOCATION:America/Toronto
BEGIN:DAYLIGHT
DTSTART:20230312T030000
TZOFFSETFROM:-0500
TZOFFSETTO:-0400
TZNAME:EDT
END:DAYLIGHT
END:VTIMEZONE
END:VCALENDAR