BEGIN:VCALENDAR
VERSION:2.0
PRODID:-//wp-events-plugin.com//7.2.3.1//EN
TZID:America/Toronto
X-WR-TIMEZONE:America/Toronto
BEGIN:VEVENT
UID:891@epilepsytoronto.org
DTSTART;TZID=America/Toronto:20220316T140000
DTEND;TZID=America/Toronto:20220316T150000
DTSTAMP:20260109T203258Z
URL:https://epilepsytoronto.org/event/digital-literacy-workshop-qr-codes/
SUMMARY:Digital Literacy Workshop: QR Codes
DESCRIPTION:[vc_row][vc_column][vc_column_text]With the whole world livin
 g online\, people with disabilities tend to get left behind due to the lac
 k of accessibility to computers\, tablets\, and phones\, Furthermore\, th
 ey are also are less likely to be aware of the versatility and other capa
 bilities of these devices and platforms.\n\nWe're here to help you! Join u
 s for a free series of interactive workshops and learn about all things d
 igital with our facilitator Bryan Kuropatwa.\n\nJoin us for our QR Codes W
 orkshop! What are QR codes\, you ask? Don't worry\, we'd never heard of th
 em either. But these funky codes are used for much more than just navigati
 ng restaurant menus! QR Codes are also popular because they are good for t
 he environment….join us and find out why!\n\nMeet the workshop facilitat
 or Bryan Kuropatwa:\n\nBryan was born and raised around the GTA\, and desp
 ite epilepsy\, earned a science PhD from the University of Waterloo.  Cur
 rently\, he is making the effort to re-train himself in a newer field call
 ed Data Science where he can apply all of his science and presenting skil
 ls towards computer coding and understanding problems encountered by compa
 nies.  He recently underwent surgery to better control his epilepsy and r
 ecover more with every passing day.  He believes volunteering is a great 
 way to give back to the people around him and a refreshing break from codi
 ng. And we’re glad to have him![/vc_column_text][/vc_column][/vc_row][vc
 _row][vc_column][vc_column_text]\nCLICK HERE TO REGISTER TODAY\n&nbsp\;\nP
 lease contact Carter if you have any questions about the workshop: carter@
 epilepsytoronto.org.\n[/vc_column_text][/vc_column][/vc_row]
ATTACH;FMTTYPE=image/jpeg:https://epilepsytoronto.org/wp-content/uploads/2
 022/02/Digital-literacy-2.jpg
LOCATION:Online\, \, Canada
X-APPLE-STRUCTURED-LOCATION;VALUE=URI;X-ADDRESS=\, Canada;X-APPLE-RADIUS=10
 0;X-TITLE=Online:geo:0,0
END:VEVENT
BEGIN:VTIMEZONE
TZID:America/Toronto
X-LIC-LOCATION:America/Toronto
BEGIN:DAYLIGHT
DTSTART:20220313T030000
TZOFFSETFROM:-0500
TZOFFSETTO:-0400
TZNAME:EDT
END:DAYLIGHT
END:VTIMEZONE
END:VCALENDAR