BEGIN:VCALENDAR
VERSION:2.0
PRODID:-//wp-events-plugin.com//7.2.3.1//EN
TZID:America/Toronto
X-WR-TIMEZONE:America/Toronto
BEGIN:VEVENT
UID:882@epilepsytoronto.org
DTSTART;TZID=America/Toronto:20220202T190000
DTEND;TZID=America/Toronto:20220202T200000
DTSTAMP:20260109T203259Z
URL:https://epilepsytoronto.org/event/cra-webinar-series-tax-prep-for-stud
 ents-youth/
SUMMARY:CRA Webinar Series: Tax Prep for Students & Youth
DESCRIPTION:[vc_row][vc_column width="1/2"][vc_column_text]It's almost that
  dreaded time of the year - tax time! Taxes can be difficult and overwhelm
 ing but the Canada Revenue Agency (CRA) is hosting a series of workshops t
 o help you get through the season and make sure you're getting the most ou
 t of your tax return.\n\nWebinar #3: Tax Prep for Students &amp\; Youth\nW
 ednesday\, February 2 from 7 - 8PM\nLearn about Canada's tax system\, tax 
 credits for students\, tuition tax credits\, and more.\n\nTopics covered:
  \n\n 	Youth and student financial literacy\n 	Understanding the Canadian
  tax system\n 	Understanding your T4 slip\n 	Tax credits for students\n 	H
 ow to claim benefits and credits\n\n[/vc_column_text][/vc_column][vc_colum
 n width="1/2"][vc_single_image image="9225" img_size="large"][/vc_column][
 /vc_row][vc_row][vc_column][vc_column_text]\nAll of the webinars will be h
 osted online.\nClick here to RSVP and receive your personal Zoom link.\n[/
 vc_column_text][/vc_column][/vc_row]
ATTACH;FMTTYPE=image/jpeg:https://epilepsytoronto.org/wp-content/uploads/2
 022/01/TAX-TIME-1600-x-400-px-e1642027802187.jpg
LOCATION:Online\, \, Canada
X-APPLE-STRUCTURED-LOCATION;VALUE=URI;X-ADDRESS=\, Canada;X-APPLE-RADIUS=10
 0;X-TITLE=Online:geo:0,0
END:VEVENT
BEGIN:VTIMEZONE
TZID:America/Toronto
X-LIC-LOCATION:America/Toronto
BEGIN:STANDARD
DTSTART:20211107T010000
TZOFFSETFROM:-0400
TZOFFSETTO:-0500
TZNAME:EST
END:STANDARD
END:VTIMEZONE
END:VCALENDAR