BEGIN:VCALENDAR
VERSION:2.0
PRODID:-//wp-events-plugin.com//7.2.3.1//EN
TZID:America/Toronto
X-WR-TIMEZONE:America/Toronto
BEGIN:VEVENT
UID:883@epilepsytoronto.org
DTSTART;TZID=America/Toronto:20220209T180000
DTEND;TZID=America/Toronto:20220209T190000
DTSTAMP:20260109T203259Z
URL:https://epilepsytoronto.org/event/cra-webinar-series-tax-prep-for-peop
 le-with-disabilities/
SUMMARY:CRA Webinar Series: Tax Prep for People with Disabilities
DESCRIPTION:[vc_row][vc_column width="1/2"][vc_column_text]It's almost that
  dreaded time of the year - tax time! Taxes can be difficult and overwhelm
 ing but the Canada Revenue Agency (CRA) is hosting a series of workshops t
 o help you get through the season and make sure you're getting the most ou
 t of your tax return.\nWebinar #4: Tax Prep for People with Disabilities 
 \nWednesday\, February 9 from 6 - 7PM\nLearn about claiming credits on you
 r tax return if you're living with a disability.\n\nTopics covered: \n\n 
 	Learn about the Disability Tax Credit (DTC)\n 	Understand eligibility and
  categories of the DTC\n 	Applying for the Disability Tax Credit Certifica
 te\n 	Claiming the credit on your tax return\n\n[/vc_column_text][/vc_colu
 mn][vc_column width="1/2"][vc_single_image image="9229" img_size="full"][/
 vc_column][/vc_row][vc_row][vc_column][vc_column_text]\nAll of the webinar
 s will be hosted online.\nClick here to RSVP and receive your personal Zoo
 m link.\n[/vc_column_text][/vc_column][/vc_row]
ATTACH;FMTTYPE=image/jpeg:https://epilepsytoronto.org/wp-content/uploads/2
 022/01/TAX-TIME-1600-x-400-px-e1642027802187.jpg
LOCATION:Online\, \, Canada
X-APPLE-STRUCTURED-LOCATION;VALUE=URI;X-ADDRESS=\, Canada;X-APPLE-RADIUS=10
 0;X-TITLE=Online:geo:0,0
END:VEVENT
BEGIN:VTIMEZONE
TZID:America/Toronto
X-LIC-LOCATION:America/Toronto
BEGIN:STANDARD
DTSTART:20211107T010000
TZOFFSETFROM:-0400
TZOFFSETTO:-0500
TZNAME:EST
END:STANDARD
END:VTIMEZONE
END:VCALENDAR